BEGIN:VCALENDAR
VERSION:2.0
PRODID:https://www.casino-sh.de
BEGIN:VTIMEZONE
TZID:Europe/Berlin
BEGIN:STANDARD
DTSTART:20251026T030000
TZOFFSETFROM:+0200
TZOFFSETTO:+0100
END:STANDARD
BEGIN:DAYLIGHT
DTSTART:20260329T010000
TZOFFSETFROM:+0100
TZOFFSETTO:+0200
END:DAYLIGHT
BEGIN:STANDARD
DTSTART:20261025T030000
TZOFFSETFROM:+0200
TZOFFSETTO:+0100
END:STANDARD
END:VTIMEZONE
BEGIN:VTIMEZONE
TZID:UTC
BEGIN:STANDARD
DTSTART:20250608T124535
TZOFFSETFROM:+0000
TZOFFSETTO:+0000
END:STANDARD
END:VTIMEZONE
BEGIN:VEVENT
UID:casino-sh.event.1.430.20260430
DTSTAMP:20260305T124535Z
SUMMARY:Tanz in den Mai mit DJ N-DEE
DESCRIPTION:Am 30. April 2026 heißt es wieder: Tanzen\, feiern\, durchstar
 ten! Ab 21 Uhr laden wir herzlich zum großen „Tanz in den Mai“ ein 
 – mit DJ N-DEE\, bester Stimmung und jeder Menge Frühlingsgefühle.\nFr
 euen Sie sich auf eine Partynacht mit mitreißenden Beats\, aktuellen Char
 ts\, Klassikern und echten Tanzflächen-Hits. Unser DJ sorgt für den perf
 ekten Soundtrack\, um gemeinsam beschwingt in den Mai zu feiern.\nZur Begr
 üßung empfangen wir alle Gäste mit einem Drink – so starten Sie stilv
 oll in eine rauschende Partynacht.\nJetzt vormerken und dabei sein!\nEintr
 itt: 15\,00 € (mit Personalausweis)
LOCATION:Casino Lübeck\, Willy-Brandt-Allee 1-5\, 23554 Lübeck
CLASS:PUBLIC
STATUS:CONFIRMED
ORGANIZER;CN=Casino Lübeck:MAILTO:info@casino-sh.de
URL:
IMAGE;VALUE=URI:https://www.casino-sh.de/assets/images/7/CHL_Events_April_W
 eb_30-04-fde59569.jpg
DTSTART;TZID=Europe/Berlin:20260430T210000
END:VEVENT
END:VCALENDAR