BEGIN:VCALENDAR
VERSION:2.0
PRODID:https://www.casino-sh.de
BEGIN:VTIMEZONE
TZID:Europe/Berlin
BEGIN:STANDARD
DTSTART:20251026T030000
TZOFFSETFROM:+0200
TZOFFSETTO:+0100
END:STANDARD
BEGIN:DAYLIGHT
DTSTART:20260329T010000
TZOFFSETFROM:+0100
TZOFFSETTO:+0200
END:DAYLIGHT
BEGIN:STANDARD
DTSTART:20261025T030000
TZOFFSETFROM:+0200
TZOFFSETTO:+0100
END:STANDARD
END:VTIMEZONE
BEGIN:VTIMEZONE
TZID:UTC
BEGIN:STANDARD
DTSTART:20250724T162127
TZOFFSETFROM:+0000
TZOFFSETTO:+0000
END:STANDARD
END:VTIMEZONE
BEGIN:VEVENT
UID:casino-sh.event.5.443.20260523
DTSTAMP:20260420T162127Z
SUMMARY:Pfingst Mystery Jackpot
DESCRIPTION:Feiern Sie Pfingsten mit uns und nutzen Sie Ihre Chance\, tägl
 ich 6x 250 € zu gewinnen!
LOCATION:Casino Flensburg\, Süderhofenden 16\, 24937 Flensburg
CLASS:PUBLIC
STATUS:CONFIRMED
ORGANIZER;CN=Casino Flensburg:MAILTO:info@casino-sh.de
URL:
IMAGE;VALUE=URI:https://www.casino-sh.de/assets/images/a/CFL_Pfingst-Myster
 y-Jackpot_Web-f21b04c1.jpg
DTSTART;TZID=Europe/Berlin:20260523T000000
DTEND;TZID=Europe/Berlin:20260527T235959
END:VEVENT
END:VCALENDAR