BEGIN:VCALENDAR
VERSION:2.0
PRODID:https://www.casino-sh.de
BEGIN:VTIMEZONE
TZID:Europe/Berlin
BEGIN:STANDARD
DTSTART:20251026T030000
TZOFFSETFROM:+0200
TZOFFSETTO:+0100
END:STANDARD
BEGIN:DAYLIGHT
DTSTART:20260329T010000
TZOFFSETFROM:+0100
TZOFFSETTO:+0200
END:DAYLIGHT
BEGIN:STANDARD
DTSTART:20261025T030000
TZOFFSETFROM:+0200
TZOFFSETTO:+0100
END:STANDARD
END:VTIMEZONE
BEGIN:VTIMEZONE
TZID:UTC
BEGIN:STANDARD
DTSTART:20250608T112822
TZOFFSETFROM:+0000
TZOFFSETTO:+0000
END:STANDARD
END:VTIMEZONE
BEGIN:VEVENT
UID:casino-sh.event.1.434.20260423
DTSTAMP:20260305T112822Z
SUMMARY:Jeden Donnerstag: Cocktail Happy Hour!
DESCRIPTION:Wenn der Abend beginnt\, wird es genussvoll.Jeden Donnerstag la
 den wir Sie im CASINO Lübeck zur Cocktail Happy Hour ein.\nZwischen 18:00
  und 22:00 Uhr servieren wir ausgewählte Cocktails in entspannter Atmosph
 äre – begleitet vom besonderen Flair unseres Casinos. Ob als stilvoller
  Auftakt in den Abend oder als bewusste Auszeit zwischendurch: Hier treffe
 n Genuss\, Spannung und Eleganz aufeinander.\nEin Abend\, der bleibt.Ein D
 onnerstag\, der nach Wiederholung verlangt.\n[nbsp]\nEinlass ab 18 Jahren 
 mit gültigem Personalausweis oder Reisepass. Glücksspiel kann süchtig m
 achen. Hilfe unter www.check-dein-spiel.de oder 0800-137 27 00.
LOCATION:Casino Lübeck\, Willy-Brandt-Allee 1-5\, 23554 Lübeck
CLASS:PUBLIC
STATUS:CONFIRMED
ORGANIZER;CN=Casino Lübeck:MAILTO:info@casino-sh.de
URL:
IMAGE;VALUE=URI:https://www.casino-sh.de/assets/images/a/CHL_Happy-Hour_Web
 -4f4ecd59.jpg
DTSTART;TZID=Europe/Berlin:20260423T000000
DTEND;TZID=Europe/Berlin:20260423T235959
END:VEVENT
END:VCALENDAR